BEGIN:VCALENDAR
VERSION:2.0
PRODID:-//Mountain and Moor Adventures - ECPv6.15.20//NONSGML v1.0//EN
CALSCALE:GREGORIAN
METHOD:PUBLISH
X-ORIGINAL-URL:https://www.mountainandmooradventures.co.uk
X-WR-CALDESC:Events for Mountain and Moor Adventures
REFRESH-INTERVAL;VALUE=DURATION:PT1H
X-Robots-Tag:noindex
X-PUBLISHED-TTL:PT1H
BEGIN:VTIMEZONE
TZID:Europe/London
BEGIN:DAYLIGHT
TZOFFSETFROM:+0000
TZOFFSETTO:+0100
TZNAME:BST
DTSTART:20250330T010000
END:DAYLIGHT
BEGIN:STANDARD
TZOFFSETFROM:+0100
TZOFFSETTO:+0000
TZNAME:GMT
DTSTART:20251026T010000
END:STANDARD
BEGIN:DAYLIGHT
TZOFFSETFROM:+0000
TZOFFSETTO:+0100
TZNAME:BST
DTSTART:20260329T010000
END:DAYLIGHT
BEGIN:STANDARD
TZOFFSETFROM:+0100
TZOFFSETTO:+0000
TZNAME:GMT
DTSTART:20261025T010000
END:STANDARD
BEGIN:DAYLIGHT
TZOFFSETFROM:+0000
TZOFFSETTO:+0100
TZNAME:BST
DTSTART:20270328T010000
END:DAYLIGHT
BEGIN:STANDARD
TZOFFSETFROM:+0100
TZOFFSETTO:+0000
TZNAME:GMT
DTSTART:20271031T010000
END:STANDARD
END:VTIMEZONE
BEGIN:VTIMEZONE
TZID:UTC
BEGIN:STANDARD
TZOFFSETFROM:+0000
TZOFFSETTO:+0000
TZNAME:UTC
DTSTART:20250101T000000
END:STANDARD
END:VTIMEZONE
BEGIN:VEVENT
DTSTART;TZID=Europe/London:20260104T090000
DTEND;TZID=Europe/London:20260104T140000
DTSTAMP:20260423T233613
CREATED:20240905T160231Z
LAST-MODIFIED:20251027T074747Z
UID:735-1767517200-1767535200@www.mountainandmooradventures.co.uk
SUMMARY:Claxby 10 Miler
DESCRIPTION:🌄 Join Us for an Exciting Hiking Adventure! 🌄  \nHey everyone! 🌟  \nWe’re thrilled to announce our upcoming hiking event and would love for you to join us! Whether you’re an experienced hiker or just looking for a fun outdoor activity\, this event is perfect for all skill levels.  \nFancy a walk in the lovely Lincolnshire Wolds\,one of the few areas in Lincolnshire that has hilly terrain\,never big ascents but lovely characterful landscapes.  \nWe start and finish at the lovely village of Claxby just below the highest point in Lincolnshire\,we head out on footpaths over to Nettleton before heading up on to higher ground to make our return via the Viking Way.  \nA straightforward hike with a few shorts ascents and descents which can be muddy in places after rain and as this is January warm layers will be required.  \nStart point below:  \nhttps://maps.app.goo.gl/nN38DgdawR4rGSGh9  \nRoadside parking close to the Viking Centre\,please park responsibly.  \n📅 Date:04.01.2026🕒 Time: 09.00  📍 Location: Claxby\,Lincs     \n🚶‍Distance: 10 miles(16km)   🌿 Difficulty Level: Moderate  \nWhat to Bring:  \n\nComfortable hiking shoes or boots and socks👟 \n\n\nWater bottle or bladder(with water in of course)💧 \n\n\nRucksack with waterproof cover(20l to 25L) \n\n\nSnacks 🍎 \n\n\nLunch \n\n\nWaterproofs \n\n\nSpare Warm Layer \n\n\nHat and Gloves \n\n\nPersonal Medication \n\n\nA positive attitude! 😊 \n\nWhy Join Us?  \n\nEnjoy great views and fresh air 🌲 \n\n\nMeet new friends and fellow hiking enthusiasts 🤝 \n\n\nGet some great exercise and have fun! 💪 \n\n Visit our website to book  www.mountainandmooradventures.co.uk  \nLooking forward to seeing you all there! Let’s make this hike an unforgettable experience! 🥾🌞 
URL:https://www.mountainandmooradventures.co.uk/event/claxby-10-miler/
CATEGORIES:Lincolnshire/Nottinghamshire Walks
ATTACH;FMTTYPE=image/jpeg:https://www.mountainandmooradventures.co.uk/wp-content/uploads/2024/09/IMG_20190217_103039-scaled.jpg
END:VEVENT
BEGIN:VEVENT
DTSTART;TZID=UTC:20260214T093000
DTEND;TZID=UTC:20260214T120000
DTSTAMP:20260423T233613
CREATED:20240604T084820Z
LAST-MODIFIED:20260203T182356Z
UID:465-1771061400-1771070400@www.mountainandmooradventures.co.uk
SUMMARY:Fiskerton - Morton Circular - Nottinghamshire
DESCRIPTION:A lovely 6 mile flat loop in the Nottinghamshire countryside around the River Trent taking in riverside paths\,footpaths and quiet countryside lanes.\nSuitable for all abilities and if you’ve not been with us before then this is a great introduction to walking with us and finding out more about our welcoming ethos.\nDue to the nature of the terrain and proximity to the river and local tributaries the walk can be muddy in places after a wet spell. \nStart point of walk on below link\,free parking available here. \nhttps://maps.app.goo.gl/Q2BSsuehXU9hNBc18
URL:https://www.mountainandmooradventures.co.uk/event/fiskerton-morton-circular/
LOCATION:Trent View Car Park\,Fiskerton
CATEGORIES:Lincolnshire/Nottinghamshire Walks
ATTACH;FMTTYPE=image/jpeg:https://www.mountainandmooradventures.co.uk/wp-content/uploads/2024/04/Lincs_Notts-walks2-Large.jpeg
END:VEVENT
BEGIN:VEVENT
DTSTART;TZID=Europe/London:20260228T080000
DTEND;TZID=Europe/London:20260228T160000
DTSTAMP:20260423T233613
CREATED:20260203T180753Z
LAST-MODIFIED:20260203T180753Z
UID:1392-1772265600-1772294400@www.mountainandmooradventures.co.uk
SUMMARY:Tennyson 20-Lincolnshire Wolds
DESCRIPTION:🌄 Join Us for an Exciting Hiking Adventure! 🌄  \nHi Everyone! 🌟  \nCome and join our next hiking challenge\,the Tennyson 20 in the Lincolnshire Wolds. A great way to get your walking year off to a great start\,all with our support. \nA great circular route that visits villages around Somersby\,birthplace of Alfred Lord Tennyson\,famous Poet Laureate oif the 19th Century.  \nWe will be starting early\,8am to give us plenty of time to complete and enjoy the wonderful Lincolnshire Wolds.  \nStart Point -https://maps.app.goo.gl/zE6mYZ9HxP4RoUSA. Please park considerably outside the church on Winthorpe Road.  \nPlease car share where possible to minimise our impact on the environment.  \n📅 Date: 28.02.2026🕒 Time: 08.00 📍 Location: https://maps.app.goo.gl/MrwoPwC4jbqHtr4Y6🚶‍♂️ Distance: 20 miles(32km) 🌿 Difficulty Level: Moderate  \nWhat to Bring:  \n● Comfortable hiking shoes or boots and socks👟  \n● Water bottle or bladder(with water in of course)💧  \n● Rucksack with waterproof cover(20l to 25L)  \n● Snacks 🍎  \n● Lunch  \n● Waterproofs  \n● Spare Warm Layer  \n● Hat and Gloves  \n● Personal Medication  \n● A positive attitude! 😊  \nWhy Join Us?  \n● Enjoy breathtaking views and fresh air 🌲  \n● Meet new friends and fellow hiking enthusiasts 🤝  \n● Get some great exercise and have fun! 💪  \n Visit our website to book www.mountainandmooradventures.co.uk  \nLooking forward to seeing you all there! Let’s make this hike an unforgettable experience! 🥾🌞  \n 
URL:https://www.mountainandmooradventures.co.uk/event/tennyson-20/
CATEGORIES:Lincolnshire/Nottinghamshire Walks
ATTACH;FMTTYPE=image/webp:https://www.mountainandmooradventures.co.uk/wp-content/uploads/2026/01/IMG_20220227_173515_731.webp
END:VEVENT
END:VCALENDAR