BEGIN:VCALENDAR
VERSION:2.0
PRODID:-//Mountain and Moor Adventures - ECPv6.15.20//NONSGML v1.0//EN
CALSCALE:GREGORIAN
METHOD:PUBLISH
X-ORIGINAL-URL:https://www.mountainandmooradventures.co.uk
X-WR-CALDESC:Events for Mountain and Moor Adventures
REFRESH-INTERVAL;VALUE=DURATION:PT1H
X-Robots-Tag:noindex
X-PUBLISHED-TTL:PT1H
BEGIN:VTIMEZONE
TZID:UTC
BEGIN:STANDARD
TZOFFSETFROM:+0000
TZOFFSETTO:+0000
TZNAME:UTC
DTSTART:20230101T000000
END:STANDARD
END:VTIMEZONE
BEGIN:VEVENT
DTSTART;TZID=UTC:20240728T093000
DTEND;TZID=UTC:20240728T120000
DTSTAMP:20260423T184249
CREATED:20240509T121157Z
LAST-MODIFIED:20240509T152426Z
UID:363-1722159000-1722168000@www.mountainandmooradventures.co.uk
SUMMARY:Tunman Woods and Thorpe on the Hill - 6 miles
DESCRIPTION:Join us for a leisurely hike around Tunman Woods and Thorpe on the Hill.\nStarting outside the old Halfway House\, adjacent to the A46 at Swinderby Roundabout we skirt the woods and head across the fields to Thorp on the Hill \,through the village and down a well established farm track back the woods. We then make our way through the woodland and out to Morton village and back to our start point.\nA good introduction walk with our group if you’re just starting out\, you’ll be made very welcome.
URL:https://www.mountainandmooradventures.co.uk/event/tunman-woods-and-thorpe-on-the-hill-6-miles/
LOCATION:Old Halfway House\, Old Halfway House\, LN6 9QJ
CATEGORIES:Lincolnshire/Nottinghamshire Walks
ATTACH;FMTTYPE=image/jpeg:https://www.mountainandmooradventures.co.uk/wp-content/uploads/2024/05/tunman-woods-Large.jpeg
END:VEVENT
END:VCALENDAR