BEGIN:VCALENDAR
VERSION:2.0
PRODID:-//Mountain and Moor Adventures - ECPv6.15.20//NONSGML v1.0//EN
CALSCALE:GREGORIAN
METHOD:PUBLISH
X-ORIGINAL-URL:https://www.mountainandmooradventures.co.uk
X-WR-CALDESC:Events for Mountain and Moor Adventures
REFRESH-INTERVAL;VALUE=DURATION:PT1H
X-Robots-Tag:noindex
X-PUBLISHED-TTL:PT1H
BEGIN:VTIMEZONE
TZID:UTC
BEGIN:STANDARD
TZOFFSETFROM:+0000
TZOFFSETTO:+0000
TZNAME:UTC
DTSTART:20230101T000000
END:STANDARD
END:VTIMEZONE
BEGIN:VEVENT
DTSTART;TZID=UTC:20240629T093000
DTEND;TZID=UTC:20240629T120000
DTSTAMP:20260423T183950
CREATED:20240502T132445Z
LAST-MODIFIED:20240502T191454Z
UID:212-1719653400-1719662400@www.mountainandmooradventures.co.uk
SUMMARY:Bathley - Caunton Circular
DESCRIPTION:Join us for a lovely circular walk in the Nottinghamshire countryside around Bathley\, Norwell and Caunton. Taking in footpaths\, woodland trails\, farmland and quiet country lanes this walk has some expansive views from the higher points on the walk but its never too difficult. Start Point – Outside the Crown Inn\, Bathley Distance – 6.5 miles Time – 2.5 hours Generally good underfoot but can be muddy after a spell of rain so come prepared for the conditions on the day including fluids to keep you hydrated and snacks for energy. We’ll be visiting the Crown Inn afterwards for post walk refreshments. Suitable for all who are happy with the distance or want to try something a bit longer if you’re used to shorter distances.
URL:https://www.mountainandmooradventures.co.uk/event/bathley-caunton-circular/
LOCATION:The Crown Inn\, Bathley\, Main Street\, Bathley\, NG23 6DA
CATEGORIES:Lincolnshire/Nottinghamshire Walks
ATTACH;FMTTYPE=image/jpeg:https://www.mountainandmooradventures.co.uk/wp-content/uploads/2024/05/Bathley-Caunton-Circular.jpeg
END:VEVENT
END:VCALENDAR